Workbook
Name _Hlk165556063: '1-2'!#REF!

Sheet 1-2
A1: 【緊急調査】2026年度診療報酬改定後の病院経営状況
A2: １. 基本情報 ＜2026年6月1日時点の基本情報についてご記入ください。＞
A3: ◆（１－１）病院名・所在地・記入担当者等 ＊入力又はプルダウンメニューから選択してください。
B4: 病院名 | W4: 保険医療機関コード※
B5: 所在地 | E5: 〒 | W5: 都道府県 | AA5: 東京都
B7: 記入者連絡先 | E7: 所属 | O7: 役職 | Y7: 氏名
E8: 電話番号 | W8: FAX番号
E9: Eメール
B10: ※ | C10: 保険医療機関コードは、半角英数字で
C11: 「都道府県番号(２桁)」「‐（ハイフン）」「医療機関番号(７桁)」の計１０字で入力してください。
A13: ◆（１－２）開設者 ＊プルダウンメニューから選択してください。
D14: 開設者
A16: ◆（１－３）病床区分ごとの許可病床数 ＊該当する病床数を記入してください。（休床を含める）
G17: 合計 （入力不要） | K17: 一般 | O17: 療養 | S17: 精神 | W17: 結核 | AA17: 感染 | AF17: 介護 医療院
B20: 許可病床数 | G20: =SUM(K20:AD20) -> 0
A23: ２. 施設基準、病院機能等
A24: ◆（２－1）病院機能等 ＊届出している病院機能等を選択してください。 ＊該当するすべてにチェック
D25: 特定機能病院 | M25: 地域医療支援病院 | W25: 臨床研修病院
D26: ＤＰＣ対象病院 | M26: ＤＰＣ準備病院 | W26: 救命救急センター | AG26: 災害拠点病院※1
D27: がん診療連携拠点病院（国、都道府県指定）※2
D28: 精神科救急医療体制整備事業に規定する指定病院 ※3 | Z28: 医療観察法指定医療機関 ※4
D29: 在宅療養支援病院 | M29: 在宅療養後方支援病院 | W29: 紹介受診重点医療機関
C30: ※1 | D30: 精神科災害拠点病院も含む
C31: ※2 | D31: 都道府県がん診療連携拠点病院（特例型含む）、地域がん診療連携拠点病院（特例型含む）、
D32: 特定領域がん診療連携拠点病院、都道府県指定がん診療連携協力病院
C33: ※3 | D33: 精神科救急医療体制整備事業の実施に規定する、身体合併症救急医療確保事業において指定を
D34: 受けている病院、精神科救急医療確保事業において指定を受けている常時対応型病院、および、
D35: 病院群輪番型病院
C36: ※4 | D36: 指定入院医療機関および指定通院医療機関

Sheet 3-4
A1: ３. 損益等
A2: ◆（3－１）２０２５年6月、7月、8月の医業損益（月）
B3: ＊病院会計準則に基づき記入してください。
B4: ※千円単位で記入（例）10,000円 → 10千円
F5: 45809 | H5: 45839 | J5: 45870
B6: ①医業収益（Ａ＋Ｂ＋Ｃ＋D）（入力不要） | F6: =SUM(F7:F10) -> 0 | G6: 千円 | H6: =SUM(H7:H10) -> 0 | I6: 千円 | J6: =SUM(J7:J10) -> 0 | K6: 千円 | L6: =IF(AND(F6>=100000000,H6>=100000000),"※2025年6月, 2026年6月_医業収益が高額になっておりますので、お手数ですが下記A）～D）の数値をご確認ください。",IF(F6>=100000000,"※2025年6月_医業収益が高額になっておりますので、お手数ですが下記A）～D）の数値をご確認ください。",IF(H6>=100000000,"※2026年6月_医業収益が高額になっておりますので、お手数ですが下記A）～D）の数値をご確認ください。","")))
C7: A）入院診療収入 | G7: 千円 | I7: 千円 | K7: 千円 | L7: =IF(AND(F7>4200000,H7>4200000),"※2025年6月, 2026年6月_入院診療収入が高額になっておりますので、お手数ですが数値をご確認ください。",IF(F7>4200000,"※2025年6月_入院診療収入が高額になっておりますので、お手数ですが数値をご確認ください。",IF(H7>4200000,"※2026年6月_入院診療収入が高額になっておりますので、お手数ですが数値をご確認ください。","")))
C8: B）室料差額収益 | G8: 千円 | I8: 千円 | K8: 千円
C9: C）外来診療収入 | G9: 千円 | I9: 千円 | K9: 千円 | L9: =IF(AND(F9>10000000,H9>10000000),"※2025年6月, 2026年6月_外来診療収入が高額になっておりますので、お手数ですが数値をご確認ください。",IF(F9>10000000,"※2025年6月_外来診療収入が高額になっておりますので、お手数ですが数値をご確認ください。",IF(H9>10000000,"※2026年6月_外来診療収入が高額になっておりますので、お手数ですが数値をご確認ください。","")))
C10: D）その他医業収入 | G10: 千円 | I10: 千円 | K10: 千円
B11: ②医業費用（Ｅ～Ｌの合計）（入力不要） | F11: =SUM(F12,F16,F18,F22,F24:F25,F30:F31) -> 0 | G11: 千円 | H11: =SUM(H12,H16,H18,H22,H24:H25,H30:H31) -> 0 | I11: 千円 | J11: =SUM(J12,J16,J18,J22,J24:J25,J30:J31) -> 0 | K11: 千円
C12: Ｅ）材料費 | G12: 千円 | I12: 千円 | K12: 千円 | L12: =IF(AND(AND(OR(F13>0,F14>0,F15>0),F12-SUM(F13:F15)<-5),AND(OR(H13>0,H14>0,H15>0),H12-SUM(H13:H15)<-5)),"※2025年6月, 2026年6月_「Ｅ）材料費」は、下記「（再掲）医薬品費・（再掲）診療材料費・（再掲）給食材料費」の合計以上の数値をご入力ください。",IF(AND(OR(F13>0,F14>0,F15>0),F12-SUM(F13:F15)<-5),"※2025年6月_「Ｅ）材料費」は、下記「（再掲）医薬品費・（再掲）診療材料費・（再掲）給食材料費」の合計以上の数値をご入力ください。",IF(AND(OR(H13>0,H14>0,H15>0),H12-SUM(H13:H15)<-5),"※2026年6月_「Ｅ）材料費」は、下記「（再掲）医薬品費・（再掲）診療材料費・（再掲）給食材料費」の合計以上の数値をご入力ください。","")))
D13: （再掲） | E13: 医薬品費 | G13: 千円 | I13: 千円 | K13: 千円
E14: 診療材料費 | G14: 千円 | I14: 千円 | K14: 千円
E15: 給食用材料費 | G15: 千円 | I15: 千円 | K15: 千円
C16: Ｆ）給与費 | G16: 千円 | I16: 千円 | K16: 千円 | L16: =IF(AND(AND(F17>0,F16-F17<-5),AND(H17>0,H16-H17<-5)),"※2025年6月, 2026年6月_「Ｆ）給与費」は、下記「（再掲）賞与」以上の数値をご入力ください。",IF(AND(F17>0,F16-F17<-5),"※2025年6月_「Ｆ）給与費」は、下記「（再掲）賞与」以上の数値をご入力ください。",IF(AND(H17>0,H16-H17<-5),"※2026年6月_「Ｆ）給与費」は、下記「（再掲）賞与」以上の数値をご入力ください。","")))
D17: （再掲）賞与 | G17: 千円 | I17: 千円 | K17: 千円
C18: Ｇ）委託費 | G18: 千円 | I18: 千円 | K18: 千円 | L18: =IF(AND(AND(OR(F19>0,F20>0,F21>0),F18-SUM(F19:F21)<-5),AND(OR(H19>0,H20>0,H21>0),H18-SUM(H19:H21)<-5)),"※2025年6月, 2026年6月_「Ｇ）委託費」は、下記「（再掲）給食委託費・（再掲）人材委託費・（再掲）保守委託費」の合計以上の数値をご入力ください。",IF(AND(OR(F19>0,F20>0,F21>0),F18-SUM(F19:F21)<-5),"※2025年6月_「Ｇ）委託費」は、下記「（再掲）給食委託費・（再掲）人材委託費・（再掲）保守委託費」の合計以上の数値をご入力ください。",IF(AND(OR(H19>0,H20>0,H21>0),H18-SUM(H19:H21)<-5),"※2026年6月_「Ｇ）委託費」は、下記「（再掲）給食委託費・（再掲）人材委託費・（再掲）保守委託費」の合計以上の数値をご入力ください。","")))
D19: （再掲） | E19: 給食委託費 | G19: 千円 | I19: 千円 | K19: 千円
E20: 人材委託費 | G20: 千円 | I20: 千円 | K20: 千円
E21: 保守委託費 | G21: 千円 | I21: 千円 | K21: 千円
C22: Ｈ）設備関係費 | G22: 千円 | I22: 千円 | K22: 千円 | L22: =IF(AND(AND(F23>0,F22-F23<-5),AND(H23>0,H22-H23<-5)),"※2025年6月, 2026年6月_「Ｈ）設備関係費」は、下記「（再掲）減価償却費」以上の数値をご入力ください。",IF(AND(F23>0,F22-F23<-5),"※2025年6月_「Ｈ）設備関係費」は、下記「（再掲）減価償却費」以上の数値をご入力ください。",IF(AND(H23>0,H22-H23<-5),"※2026年6月_「Ｈ）設備関係費」は、下記「（再掲）減価償却費」以上の数値をご入力ください。","")))
D23: （再掲）減価償却費 | G23: 千円 | I23: 千円 | K23: 千円
C24: Ｉ）研究研修費 | G24: 千円 | I24: 千円 | K24: 千円
C25: Ｊ）経費 | G25: 千円 | I25: 千円 | K25: 千円 | L25: =IF(AND(AND(F26>0,F25-F26<-5),AND(H26>0,H25-H26<-5)),"※2025年6月, 2026年6月_「Ｊ）経費」は、下記「（再掲）水道光熱費」以上の数値をご入力ください。",IF(AND(F26>0,F25-F26<-5),"※2025年6月_「Ｊ）経費」は、下記「（再掲）水道光熱費」以上の数値をご入力ください。",IF(AND(H26>0,H25-H26<-5),"※2026年6月_「Ｊ）経費」は、下記「（再掲）水道光熱費」以上の数値をご入力ください。","")))
D26: （再掲）水道光熱費 | F26: =SUM(F27:F29) -> 0 | G26: 千円 | H26: =SUM(H27:H29) -> 0 | I26: 千円 | J26: =SUM(J27:J29) -> 0 | K26: 千円
E27: 電気料金 | G27: 千円 | I27: 千円 | K27: 千円
E28: ガス料金 | G28: 千円 | I28: 千円 | K28: 千円
E29: その他の水道光熱費 | G29: 千円 | I29: 千円 | K29: 千円
C30: Ｋ）控除対象外消費税等負担額 | G30: 千円 | I30: 千円 | K30: 千円
C31: Ｌ）本部費配賦額 | G31: 千円 | I31: 千円 | K31: 千円
B32: ③医業利益（①－②）（入力不要） | F32: =F6-F11 -> 0 | G32: 千円 | H32: =H6-H11 -> 0 | I32: 千円 | J32: =J6-J11 -> 0 | K32: 千円
B33: ④医業外収益 | G33: 千円 | I33: 千円 | K33: 千円
B34: ⑤医業外費用 | G34: 千円 | I34: 千円 | K34: 千円
B35: ⑥経常利益（（①＋④）－（②＋⑤））（入力不要） | F35: =SUM(F6,F33)-SUM(F11,F34) -> 0 | G35: 千円 | H35: =SUM(H6,H33)-SUM(H11,H34) -> 0 | I35: 千円 | J35: =SUM(J6,J33)-SUM(J11,J34) -> 0 | K35: 千円
B37: （再掲） | C37: 賃上げ・物価上昇支援事業補助金 | G37: 千円 | I37: 千円 | K37: 千円
C38: 運営費補助金 | G38: 千円 | I38: 千円 | K38: 千円
C39: 施設設備補助金 | G39: 千円 | I39: 千円 | K39: 千円
C40: その他補助金 | G40: 千円 | I40: 千円 | K40: 千円
B42: 病床利用率 | G42: ％ | I42: ％ | K42: ％
...

Sheet 集計シート　※触らないでください。
A1: 受信日時 | B1: 0-0-1_管理番号 | C1: 1-1-1_病院名 | D1: 1-1-2_保険医療機関コード | E1: 1-1-31_郵便番号 | F1: 1-1-32_住所_都道府県 | G1: 1-1-33_住所_市区町村以下 | H1: 1-1-41_所属 | I1: 1-1-42_役職 | J1: 1-1-43_氏名 | K1: 1-1-5_電話番号 | L1: 1-1-6_FAX番号 | M1: 1-1-7_Eメールアドレス | N1: 1-2_開設者 | O1: 1-3-1_許可病床数（合計） | P1: 1-3-2_許可病床数（一般） | Q1: 1-3-3_許可病床数（療養） | R1: 1-3-4_許可病床数（精神） | S1: 1-3-5_許可病床数（結核） | T1: 1-3-6_許可病床数（感染） | U1: 1-3-7_許可病床数（介護医療院） | V1: 2-3-01_特定機能病院 | W1: 2-3-02_地域医療支援病院 | X1: 2-3-03_臨床研修病院 | Y1: 2-3-04_DPC対象病院 | Z1: 2-3-05_DPC準備病院 | AA1: 2-3-06_救命救急センター | AB1: 2-3-07_災害拠点病院 | AC1: 2-3-08_がん診療連携拠点病院 | AD1: 2-3-09_精神科救急医療体制整備事業に規定する指定病院 | AE1: 2-3-10_医療観察法指定医療機関 | AF1: 2-3-11_在宅療養支援病院 | AG1: 2-3-12_在宅療養後方支援病院 | AH1: 2-3-13_紹介受診重点医療機関 | AI1: 医業収益256 | AJ1: 入院診療収入256 | AK1: 室料差額収益256 | AL1: 外来診療収入256 | AM1: その他医業収入256 | AN1: 医業費用256 | AO1: 材料費256 | AP1: 再掲_医薬品費256 | AQ1: 再掲_診療材料費256 | AR1: 再掲_給食用材料費256 | AS1: 給与費256 | AT1: 再掲_賞与256 | AU1: 委託費256 | AV1: 再掲_給食委託費256 | AW1: 再掲_人材委託費256 | AX1: 再掲_保守委託費256 | AY1: 設備関係費256 | AZ1: 再掲_減価償却費256 | BA1: 研究研修費256 | BB1: 経費256 | BC1: 再掲_水道光熱費256 | BD1: 再掲2_電気料金256 | BE1: 再掲2_ガス料金256 | BF1: 再掲2_その他の水道光熱費256 | BG1: 控除対象外消費税等負担額256 | BH1: 本部費配賦額256 | BI1: 医業利益256 | BJ1: 医業外収益256 | BK1: 医業外費用256 | BL1: 経常利益256 | BM1: 医業収益257 | BN1: 入院診療収入257 | BO1: 室料差額収益257 | BP1: 外来診療収入257 | BQ1: その他医業収入257 | BR1: 医業費用257 | BS1: 材料費257 | BT1: 再掲_医薬品費257 | BU1: 再掲_診療材料費257 | BV1: 再掲_給食用材料費257 | BW1: 給与費257 | BX1: 再掲_賞与257 | BY1: 委託費257 | BZ1: 再掲_給食委託費257 | CA1: 再掲_人材委託費257 | CB1: 再掲_保守委託費257 | CC1: 設備関係費257 | CD1: 再掲_減価償却費257 | CE1: 研究研修費257 | CF1: 経費257 | CG1: 再掲_水道光熱費257 | CH1: 再掲2_電気料金257 | CI1: 再掲2_ガス料金257 | CJ1: 再掲2_その他の水道光熱費257 | CK1: 控除対象外消費税等負担額257 | CL1: 本部費配賦額257 | CM1: 医業利益257 | CN1: 医業外収益257 | CO1: 医業外費用257 | CP1: 経常利益257 | CQ1: 医業収益258 | CR1: 入院診療収入258 | CS1: 室料差額収益258 | CT1: 外来診療収入258 | CU1: その他医業収入258 | CV1: 医業費用258 | CW1: 材料費258 | CX1: 再掲_医薬品費258 | CY1: 再掲_診療材料費258 | CZ1: 再掲_給食用材料費258 | DA1: 給与費258 | DB1: 再掲_賞与258 | DC1: 委託費258 | DD1: 再掲_給食委託費258 | DE1: 再掲_人材委託費258 | DF1: 再掲_保守委託費258 | DG1: 設備関係費258 | DH1: 再掲_減価償却費258 | DI1: 研究研修費258 | DJ1: 経費258 | DK1: 再掲_水道光熱費258 | DL1: 再掲2_電気料金258 | DM1: 再掲2_ガス料金258 | DN1: 再掲2_その他の水道光熱費258 | DO1: 控除対象外消費税等負担額258 | DP1: 本部費配賦額258 | DQ1: 医業利益258 | DR1: 医業外収益258 | DS1: 医業外費用258 | DT1: 経常利益258 | DU1: 賃上げ・物価上昇支援事業補助金256 | DV1: 運営費補助金256 | DW1: 施設設備補助金256 | DX1: その他補助金256 | DY1: 賃上げ・物価上昇支援事業補助金257 | DZ1: 運営費補助金257 | EA1: 施設設備補助金257 | EB1: その他補助金257 | EC1: 賃上げ・物価上昇支援事業補助金258 | ED1: 運営費補助金258 | EE1: 施設設備補助金258 | EF1: その他補助金258 | EG1: 病床稼働率256 | EH1: 病床稼働率257 | EI1: 病床稼働率258 | EJ1: 医業収益266 | EK1: 入院診療収入266 | EL1: 室料差額収益266 | EM1: 外来診療収入266 | EN1: その他医業収入266 | EO1: 医業費用266 | EP1: 材料費266 | EQ1: 再掲_医薬品費266 | ER1: 再掲_診療材料費266 | ES1: 再掲_給食用材料費266 | ET1: 給与費266 | EU1: 再掲_賞与266 | EV1: 委託費266 | EW1: 再掲_給食委託費266 | EX1: 再掲_人材委託費266 | EY1: 再掲_保守委託費266 | EZ1: 設備関係費266 | FA1: 再掲_減価償却費266 | FB1: 研究研修費266 | FC1: 経費266 | FD1: 再掲_水道光熱費266 | FE1: 再掲2_電気料金266 | FF1: 再掲2_ガス料金266 | FG1: 再掲2_その他の水道光熱費266 | FH1: 控除対象外消費税等負担額266 | FI1: 本部費配賦額266 | FJ1: 医業利益266 | FK1: 医業外収益266 | FL1: 医業外費用266 | FM1: 経常利益266 | FN1: 医業収益267 | FO1: 入院診療収入267 | FP1: 室料差額収益267 | FQ1: 外来診療収入267 | FR1: その他医業収入267 | FS1: 医業費用267 | FT1: 材料費267 | FU1: 再掲_医薬品費267 | FV1: 再掲_診療材料費267 | FW1: 再掲_給食用材料費267 | FX1: 給与費267 | FY1: 再掲_賞与267 | FZ1: 委託費267 | GA1: 再掲_給食委託費267 | GB1: 再掲_人材委託費267 | GC1: 再掲_保守委託費267 | GD1: 設備関係費267 | GE1: 再掲_減価償却費267 | GF1: 研究研修費267 | GG1: 経費267 | GH1: 再掲_水道光熱費267 | GI1: 再掲2_電気料金267 | GJ1: 再掲2_ガス料金267 | GK1: 再掲2_その他の水道光熱費267 | GL1: 控除対象外消費税等負担額267 | GM1: 本部費配賦額267 | GN1: 医業利益267 | GO1: 医業外収益267 | GP1: 医業外費用267 | GQ1: 経常利益267 | GR1: 医業収益268 | GS1: 入院診療収入268 | GT1: 室料差額収益268 | GU1: 外来診療収入268 | GV1: その他医業収入268 | GW1: 医業費用268 | GX1: 材料費268 | GY1: 再掲_医薬品費268 | GZ1: 再掲_診療材料費268 | HA1: 再掲_給食用材料費268 | HB1: 給与費268 | HC1: 再掲_賞与268 | HD1: 委託費268 | HE1: 再掲_給食委託費268 | HF1: 再掲_人材委託費268 | HG1: 再掲_保守委託費268 | HH1: 設備関係費268 | HI1: 再掲_減価償却費268 | HJ1: 研究研修費268 | HK1: 経費268 | HL1: 再掲_水道光熱費268 | HM1: 再掲2_電気料金268 | HN1: 再掲2_ガス料金268 | HO1: 再掲2_その他の水道光熱費268 | HP1: 控除対象外消費税等負担額268 | HQ1: 本部費配賦額268 | HR1: 医業利益268 | HS1: 医業外収益268 | HT1: 医業外費用268 | HU1: 経常利益268 | HV1: 賃上げ・物価上昇支援事業補助金266 | HW1: 運営費補助金266 | HX1: 施設設備補助金266 | HY1: その他補助金266 | HZ1: 賃上げ・物価上昇支援事業補助金267 | IA1: 運営費補助金267 | IB1: 施設設備補助金267 | IC1: その他補助金267 | ID1: 賃上げ・物価上昇支援事業補助金268 | IE1: 運営費補助金268 | IF1: 施設設備補助金268 | IG1: その他補助金268 | IH1: 病床稼働率266 | II1: 病床稼働率267 | IJ1: 病床稼働率268 | IK1: 経営への影響 | IL1: 経営改善
B2: =IF('1-2'!AM2="","",'1-2'!AM2) | C2: =IF('1-2'!E4="","",'1-2'!E4) | D2: =IF('1-2'!AF4="","",'1-2'!AF4) | E2: =IF('1-2'!G5="","",'1-2'!G5) | F2: =IF('1-2'!AA5="","",'1-2'!AA5) -> 東京都 | G2: =IF('1-2'!E6="","",'1-2'!E6) | H2: =IF('1-2'!G7="","",'1-2'!G7) | I2: =IF('1-2'!Q7="","",'1-2'!Q7) | J2: =IF('1-2'!AA7="","",'1-2'!AA7) | K2: =IF('1-2'!I8="","",'1-2'!I8) | L2: =IF('1-2'!AA8="","",'1-2'!AA8) | M2: =IF('1-2'!I9="","",'1-2'!I9) | N2: =IF('1-2'!H14="","",'1-2'!H14) | O2: =IF('1-2'!G20="","",'1-2'!G20) -> 0 | P2: =IF('1-2'!K20="","",'1-2'!K20) | Q2: =IF('1-2'!O20="","",'1-2'!O20) | R2: =IF('1-2'!S20="","",'1-2'!S20) | S2: =IF('1-2'!W20="","",'1-2'!W20) | T2: =IF('1-2'!AA20="","",'1-2'!AA20) | U2: =IF('1-2'!AF20="","",'1-2'!AF20) | V2: =IF(V5=TRUE,TRUE,"") | W2: =IF(W5=TRUE,TRUE,"") | X2: =IF(X5=TRUE,TRUE,"") | Y2: =IF(Y5=TRUE,TRUE,"") | Z2: =IF(Z5=TRUE,TRUE,"") | AA2: =IF(AA5=TRUE,TRUE,"") | AB2: =IF(AB5=TRUE,TRUE,"") | AC2: =IF(AC5=TRUE,TRUE,"") | ... AH2: =IF(AH5=TRUE,TRUE,"") | AI2: =IF('3-4'!$F$6="","",'3-4'!$F$6) -> 0 | AJ2: =IF('3-4'!$F$7="","",'3-4'!$F$7) | AK2: =IF('3-4'!$F$8="","",'3-4'!$F$8) | AL2: =IF('3-4'!$F$9="","",'3-4'!$F$9) | AM2: =IF('3-4'!$F$10="","",'3-4'!$F$10) | AN2: =IF('3-4'!$F$11="","",'3-4'!$F$11) -> 0 | AO2: =IF('3-4'!$F$12="","",'3-4'!$F$12) | AP2: =IF('3-4'!$F$13="","",'3-4'!$F$13) | AQ2: =IF('3-4'!$F$14="","",'3-4'!$F$14) | AR2: =IF('3-4'!$F$15="","",'3-4'!$F$15) | AS2: =IF('3-4'!$F$16="","",'3-4'!$F$16) | AT2: =IF('3-4'!$F$17="","",'3-4'!$F$17) | AU2: =IF('3-4'!$F$18="","",'3-4'!$F$18) | AV2: =IF('3-4'!$F$19="","",'3-4'!$F$19) | AW2: =IF('3-4'!$F$20="","",'3-4'!$F$20) | AX2: =IF('3-4'!$F$21="","",'3-4'!$F$21) | AY2: =IF('3-4'!$F$22="","",'3-4'!$F$22) | AZ2: =IF('3-4'!$F$23="","",'3-4'!$F$23) | BA2: =IF('3-4'!$F$24="","",'3-4'!$F$24) | BB2: =IF('3-4'!$F$25="","",'3-4'!$F$25) | BC2: =IF('3-4'!$F$26="","",'3-4'!$F$26) -> 0 | BD2: =IF('3-4'!$F$27="","",'3-4'!$F$27) | BE2: =IF('3-4'!$F$28="","",'3-4'!$F$28) | BF2: =IF('3-4'!$F$29="","",'3-4'!$F$29) | BG2: =IF('3-4'!$F$30="","",'3-4'!$F$30) | BH2: =IF('3-4'!$F$31="","",'3-4'!$F$31) | BI2: =IF('3-4'!$F$32="","",'3-4'!$F$32) -> 0 | BJ2: =IF('3-4'!$F$33="","",'3-4'!$F$33) | BK2: =IF('3-4'!$F$34="","",'3-4'!$F$34) | BL2: =IF('3-4'!$F$35="","",'3-4'!$F$35) -> 0 | BM2: =IF('3-4'!$H$6="","",'3-4'!$H$6) -> 0 | BN2: =IF('3-4'!$H$7="","",'3-4'!$H$7) | BO2: =IF('3-4'!$H$8="","",'3-4'!$H$8) | BP2: =IF('3-4'!$H$9="","",'3-4'!$H$9) | BQ2: =IF('3-4'!$H$10="","",'3-4'!$H$10) | BR2: =IF('3-4'!$H$11="","",'3-4'!$H$11) -> 0 | BS2: =IF('3-4'!$H$12="","",'3-4'!$H$12) | BT2: =IF('3-4'!$H$13="","",'3-4'!$H$13) | BU2: =IF('3-4'!$H$14="","",'3-4'!$H$14) | BV2: =IF('3-4'!$H$15="","",'3-4'!$H$15) | BW2: =IF('3-4'!$H$16="","",'3-4'!$H$16) | BX2: =IF('3-4'!$H$17="","",'3-4'!$H$17) | BY2: =IF('3-4'!$H$18="","",'3-4'!$H$18) | BZ2: =IF('3-4'!$H$19="","",'3-4'!$H$19) | CA2: =IF('3-4'!$H$20="","",'3-4'!$H$20) | CB2: =IF('3-4'!$H$21="","",'3-4'!$H$21) | CC2: =IF('3-4'!$H$22="","",'3-4'!$H$22) | CD2: =IF('3-4'!$H$23="","",'3-4'!$H$23) | CE2: =IF('3-4'!$H$24="","",'3-4'!$H$24) | CF2: =IF('3-4'!$H$25="","",'3-4'!$H$25) | CG2: =IF('3-4'!$H$26="","",'3-4'!$H$26) -> 0 | CH2: =IF('3-4'!$H$27="","",'3-4'!$H$27) | CI2: =IF('3-4'!$H$28="","",'3-4'!$H$28) | CJ2: =IF('3-4'!$H$29="","",'3-4'!$H$29) | CK2: =IF('3-4'!$H$30="","",'3-4'!$H$30) | CL2: =IF('3-4'!$H$31="","",'3-4'!$H$31) | CM2: =IF('3-4'!$H$32="","",'3-4'!$H$32) -> 0 | CN2: =IF('3-4'!$H$33="","",'3-4'!$H$33) | CO2: =IF('3-4'!$H$34="","",'3-4'!$H$34) | CP2: =IF('3-4'!$H$35="","",'3-4'!$H$35) -> 0 | CQ2: =IF('3-4'!$J$6="","",'3-4'!$J$6) -> 0 | CR2: =IF('3-4'!$J$7="","",'3-4'!$J$7) | CS2: =IF('3-4'!$J$8="","",'3-4'!$J$8) | CT2: =IF('3-4'!$J$9="","",'3-4'!$J$9) | CU2: =IF('3-4'!$J$10="","",'3-4'!$J$10) | CV2: =IF('3-4'!$J$11="","",'3-4'!$J$11) -> 0 | CW2: =IF('3-4'!$J$12="","",'3-4'!$J$12) | CX2: =IF('3-4'!$J$13="","",'3-4'!$J$13) | CY2: =IF('3-4'!$J$14="","",'3-4'!$J$14) | CZ2: =IF('3-4'!$J$15="","",'3-4'!$J$15) | DA2: =IF('3-4'!$J$16="","",'3-4'!$J$16) | DB2: =IF('3-4'!$J$17="","",'3-4'!$J$17) | DC2: =IF('3-4'!$J$18="","",'3-4'!$J$18) | DD2: =IF('3-4'!$J$19="","",'3-4'!$J$19) | DE2: =IF('3-4'!$J$20="","",'3-4'!$J$20) | DF2: =IF('3-4'!$J$21="","",'3-4'!$J$21) | DG2: =IF('3-4'!$J$22="","",'3-4'!$J$22) | DH2: =IF('3-4'!$J$23="","",'3-4'!$J$23) | DI2: =IF('3-4'!$J$24="","",'3-4'!$J$24) | DJ2: =IF('3-4'!$J$25="","",'3-4'!$J$25) | DK2: =IF('3-4'!$J$26="","",'3-4'!$J$26) -> 0 | DL2: =IF('3-4'!$J$27="","",'3-4'!$J$27) | DM2: =IF('3-4'!$J$28="","",'3-4'!$J$28) | DN2: =IF('3-4'!$J$29="","",'3-4'!$J$29) | DO2: =IF('3-4'!$J$30="","",'3-4'!$J$30) | DP2: =IF('3-4'!$J$31="","",'3-4'!$J$31) | DQ2: =IF('3-4'!$J$32="","",'3-4'!$J$32) -> 0 | DR2: =IF('3-4'!$J$33="","",'3-4'!$J$33) | DS2: =IF('3-4'!$J$34="","",'3-4'!$J$34) | DT2: =IF('3-4'!$J$35="","",'3-4'!$J$35) -> 0 | DU2: =IF('3-4'!$F$37="","",'3-4'!$F$37) | DV2: =IF('3-4'!$F$38="","",'3-4'!$F$38) | DW2: =IF('3-4'!$F$39="","",'3-4'!$F$39) | DX2: =IF('3-4'!$F$40="","",'3-4'!$F$40) | DY2: =IF('3-4'!$H$37="","",'3-4'!$H$37) | DZ2: =IF('3-4'!$H$38="","",'3-4'!$H$38) | EA2: =IF('3-4'!$H$39="","",'3-4'!$H$39) | EB2: =IF('3-4'!$H$40="","",'3-4'!$H$40) | EC2: =IF('3-4'!$J$37="","",'3-4'!$J$37) | ED2: =IF('3-4'!$J$38="","",'3-4'!$J$38) | EE2: =IF('3-4'!$J$39="","",'3-4'!$J$39) | EF2: =IF('3-4'!$J$40="","",'3-4'!$J$40) | EG2: =IF('3-4'!$F$42="","",'3-4'!$F$42) | EH2: =IF('3-4'!$H$42="","",'3-4'!$H$42) | EI2: =IF('3-4'!$J$42="","",'3-4'!$J$42) | EJ2: =IF('3-4'!$F$52="","",'3-4'!$F$52) -> 0 | EK2: =IF('3-4'!$F$53="","",'3-4'!$F$53) | EL2: =IF('3-4'!$F$54="","",'3-4'!$F$54) | EM2: =IF('3-4'!$F$55="","",'3-4'!$F$55) | EN2: =IF('3-4'!$F$56="","",'3-4'!$F$56) | EO2: =IF('3-4'!$F$57="","",'3-4'!$F$57) -> 0 | EP2: =IF('3-4'!$F$58="","",'3-4'!$F$58) | EQ2: =IF('3-4'!$F$59="","",'3-4'!$F$59) | ER2: =IF('3-4'!$F$60="","",'3-4'!$F$60) | ES2: =IF('3-4'!$F$61="","",'3-4'!$F$61) | ET2: =IF('3-4'!$F$62="","",'3-4'!$F$62) | EU2: =IF('3-4'!$F$63="","",'3-4'!$F$63) | EV2: =IF('3-4'!$F$64="","",'3-4'!$F$64) | EW2: =IF('3-4'!$F$65="","",'3-4'!$F$65) | EX2: =IF('3-4'!$F$66="","",'3-4'!$F$66) | EY2: =IF('3-4'!$F$67="","",'3-4'!$F$67) | EZ2: =IF('3-4'!$F$68="","",'3-4'!$F$68) | FA2: =IF('3-4'!$F$69="","",'3-4'!$F$69) | FB2: =IF('3-4'!$F$70="","",'3-4'!$F$70) | FC2: =IF('3-4'!$F$71="","",'3-4'!$F$71) | FD2: =IF('3-4'!$F$72="","",'3-4'!$F$72) -> 0 | FE2: =IF('3-4'!$F$73="","",'3-4'!$F$73) | FF2: =IF('3-4'!$F$74="","",'3-4'!$F$74) | FG2: =IF('3-4'!$F$75="","",'3-4'!$F$75) | FH2: =IF('3-4'!$F$76="","",'3-4'!$F$76) | FI2: =IF('3-4'!$F$77="","",'3-4'!$F$77) | FJ2: =IF('3-4'!$F$78="","",'3-4'!$F$78) -> 0 | FK2: =IF('3-4'!$F$79="","",'3-4'!$F$79) | FL2: =IF('3-4'!$F$80="","",'3-4'!$F$80) | FM2: =IF('3-4'!$F$81="","",'3-4'!$F$81) -> 0 | FN2: =IF('3-4'!$H$52="","",'3-4'!$H$52) -> 0 | FO2: =IF('3-4'!$H$53="","",'3-4'!$H$53) | FP2: =IF('3-4'!$H$54="","",'3-4'!$H$54) | FQ2: =IF('3-4'!$H$55="","",'3-4'!$H$55) | FR2: =IF('3-4'!$H$56="","",'3-4'!$H$56) | FS2: =IF('3-4'!$H$57="","",'3-4'!$H$57) -> 0 | FT2: =IF('3-4'!$H$58="","",'3-4'!$H$58) | FU2: =IF('3-4'!$H$59="","",'3-4'!$H$59) | FV2: =IF('3-4'!$H$60="","",'3-4'!$H$60) | FW2: =IF('3-4'!$H$61="","",'3-4'!$H$61) | FX2: =IF('3-4'!$H$62="","",'3-4'!$H$62) | FY2: =IF('3-4'!$H$63="","",'3-4'!$H$63) | FZ2: =IF('3-4'!$H$64="","",'3-4'!$H$64) | GA2: =IF('3-4'!$H$65="","",'3-4'!$H$65) | GB2: =IF('3-4'!$H$66="","",'3-4'!$H$66) | GC2: =IF('3-4'!$H$67="","",'3-4'!$H$67) | GD2: =IF('3-4'!$H$68="","",'3-4'!$H$68) | GE2: =IF('3-4'!$H$69="","",'3-4'!$H$69) | GF2: =IF('3-4'!$H$70="","",'3-4'!$H$70) | GG2: =IF('3-4'!$H$71="","",'3-4'!$H$71) | GH2: =IF('3-4'!$H$72="","",'3-4'!$H$72) -> 0 | GI2: =IF('3-4'!$H$73="","",'3-4'!$H$73) | GJ2: =IF('3-4'!$H$74="","",'3-4'!$H$74) | GK2: =IF('3-4'!$H$75="","",'3-4'!$H$75) | GL2: =IF('3-4'!$H$76="","",'3-4'!$H$76) | GM2: =IF('3-4'!$H$77="","",'3-4'!$H$77) | GN2: =IF('3-4'!$H$78="","",'3-4'!$H$78) -> 0 | GO2: =IF('3-4'!$H$79="","",'3-4'!$H$79) | GP2: =IF('3-4'!$H$80="","",'3-4'!$H$80) | GQ2: =IF('3-4'!$H$81="","",'3-4'!$H$81) -> 0 | GR2: =IF('3-4'!$J$52="","",'3-4'!$J$52) -> 0 | GS2: =IF('3-4'!$J$53="","",'3-4'!$J$53) | GT2: =IF('3-4'!$J$54="","",'3-4'!$J$54) | GU2: =IF('3-4'!$J$55="","",'3-4'!$J$55) | GV2: =IF('3-4'!$J$56="","",'3-4'!$J$56) | GW2: =IF('3-4'!$J$57="","",'3-4'!$J$57) -> 0 | GX2: =IF('3-4'!$J$58="","",'3-4'!$J$58) | GY2: =IF('3-4'!$J$59="","",'3-4'!$J$59) | GZ2: =IF('3-4'!$J$60="","",'3-4'!$J$60) | HA2: =IF('3-4'!$J$61="","",'3-4'!$J$61) | HB2: =IF('3-4'!$J$62="","",'3-4'!$J$62) | HC2: =IF('3-4'!$J$63="","",'3-4'!$J$63) | HD2: =IF('3-4'!$J$64="","",'3-4'!$J$64) | HE2: =IF('3-4'!$J$65="","",'3-4'!$J$65) | HF2: =IF('3-4'!$J$66="","",'3-4'!$J$66) | HG2: =IF('3-4'!$J$67="","",'3-4'!$J$67) | HH2: =IF('3-4'!$J$68="","",'3-4'!$J$68) | HI2: =IF('3-4'!$J$69="","",'3-4'!$J$69) | HJ2: =IF('3-4'!$J$70="","",'3-4'!$J$70) | HK2: =IF('3-4'!$J$71="","",'3-4'!$J$71) | HL2: =IF('3-4'!$J$72="","",'3-4'!$J$72) -> 0 | HM2: =IF('3-4'!$J$73="","",'3-4'!$J$73) | HN2: =IF('3-4'!$J$74="","",'3-4'!$J$74) | HO2: =IF('3-4'!$J$75="","",'3-4'!$J$75) | HP2: =IF('3-4'!$J$76="","",'3-4'!$J$76) | HQ2: =IF('3-4'!$J$77="","",'3-4'!$J$77) | HR2: =IF('3-4'!$J$78="","",'3-4'!$J$78) -> 0 | HS2: =IF('3-4'!$J$79="","",'3-4'!$J$79) | HT2: =IF('3-4'!$J$80="","",'3-4'!$J$80) | HU2: =IF('3-4'!$J$81="","",'3-4'!$J$81) -> 0 | HV2: =IF('3-4'!$F$83="","",'3-4'!$F$83) | HW2: =IF('3-4'!$F$84="","",'3-4'!$F$84) | HX2: =IF('3-4'!$F$85="","",'3-4'!$F$85) | HY2: =IF('3-4'!$F$86="","",'3-4'!$F$86) | HZ2: =IF('3-4'!$H$83="","",'3-4'!$H$83) | IA2: =IF('3-4'!$H$84="","",'3-4'!$H$84) | IB2: =IF('3-4'!$H$85="","",'3-4'!$H$85) | IC2: =IF('3-4'!$H$86="","",'3-4'!$H$86) | ID2: =IF('3-4'!$J$83="","",'3-4'!$J$83) | IE2: =IF('3-4'!$J$84="","",'3-4'!$J$84) | IF2: =IF('3-4'!$J$85="","",'3-4'!$J$85) | IG2: =IF('3-4'!$J$86="","",'3-4'!$J$86) | IH2: =IF('3-4'!$F$88="","",'3-4'!$F$88) | II2: =IF('3-4'!$H$88="","",'3-4'!$H$88) | IJ2: =IF('3-4'!$J$88="","",'3-4'!$J$88) | IK2: =IF('3-4'!$E$99="","",'3-4'!$E$99) | IL2: =IF('3-4'!$E$103="","",'3-4'!$E$103)
V5: FALSE | X5: FALSE | Z5: FALSE | AD5: FALSE
